{"text_format":"1","workbook":"xlsx","n_sheets":5,"sheets":["البيانات الاساسية","1438-1439","1439-1440","1440-1441","كل الاعوام"],"not_rendered":{"charts":15,"images":2,"macros":1,"external_links":0,"defined_names":0,"comments":0,"pivot_tables":0},"unopened":[],"bounds":{"document_bytes":16777216,"sheet_cells":100000,"rows_first":2000,"rows_last":500,"rows_between":2000,"halvings":0,"cell_chars":16384,"cell_head_chars":4096},"cells_cut":0,"cells_raw":0,"read":"whole","date_system":"1900"}

{"sheet":"البيانات الاساسية","index":0,"n_rows":28,"n_cols":14,"rows_kept":28,"cut":false,"hidden":false,"merged":[[5,3,5,10],[6,3,6,10],[7,3,7,10],[9,1,9,6],[9,8,9,13],[11,12,12,12],[11,13,12,13],[11,6,11,11],[11,0,12,0],[11,1,12,1],[11,2,12,2],[11,3,12,3],[11,4,12,4],[11,5,12,5]]}
[]
[]
[]
[]
[]
[null,null,null,"يرجى وضع جميع ملفات نماذج تقويم أداء أعضاء هيئة التدريس بالبرنامج في مجلد واحد مع هذا الملف."]
[null,null,null,"يتم فتح ملف احصائية تقويم أعضاء هيئة التدريس على مستوى البرنامج."]
[null,null,null,"القيام بالضغط على زر \"تجميع النتائج\"."]
[]
["الكلية:","كلية علوم الحاسب و تقنية المعلومات",null,null,null,null,null,"البرنامج:","علوم الحاسب"]
[]
["م","الاسم","الجنس","الدرجة العلمية","العمل الإداري","العام الجامعي","اقسام التقييم",null,null,null,null,null,"اجمالي النقاط المستحقة","المستوى العام"]
[null,null,null,null,null,null,"الأداء التدريسي وفاعليته","المشاركة في تطوير المقررات و البرنامج و تنفيذ نماذج الجودة","الصفات الشخصية و المهارات ","الأنشطة البحثية و التنمية المهنية","المشاركة في اللجان والأعمال الإدارية المختلفة","خدمة الجامعة والمجتمع"]
[1,"عضو هيئة تدريس رقم 1","ذكر ","أساذ","لا يوجد","1437 - 1438 ",1.1875,1.75,1.296875,1.75,1,1,1.3632812500000002,"غير مرض"]
[2,"عضو هيئة تدريس رقم 10","أنثى","أ. مساعد","لا يوجد","1438 - 1439 ",2.34375,2.0499999999999998,2.625,1.9166666666666667,1.6,2.125,2.1668750000000001,"ضعيف"]
[3,"عضو هيئة تدريس رقم 11","ذكر ","أ. مساعد","لا يوجد","1439 - 1440",3.3125,3.15,3.375,2.125,4.2,3.9375,3.2625000000000002,"جيد"]
[4,"عضو هيئة تدريس رقم 12","ذكر ","أ. مشارك","لا يوجد","1439 - 1440",3.8125,4.5,4.625,3.4583333333333335,4.0999999999999996,3.6875,4.035000000000001,"جيد جداً"]
[5,"عضو هيئة تدريس رقم 13","ذكر ","أستاذ","لا يوجد","1439 - 1440",4.1875,4.5,4.265625,4.125,3.45,4.625,4.2223437500000003,"جيد جداً"]
[6,"عضو هيئة تدريس رقم 14","أنثى","أ. مساعد","لا يوجد","1439 - 1440",4.375,4.9000000000000004,4.640625,4.541666666666667,4,4.375,4.5073437499999995,"ممتاز"]
[7,"عضو هيئة تدريس رقم 15","أنثى","أ. مساعد","لا يوجد","1439 - 1440",4.1875,3.55,4.03125,3,2.8,3.125,3.6134374999999994,"جيد جداً"]
[8,"عضو هيئة تدريس رقم 2","ذكر ","أ. مشارك","لا يوجد","1437 - 1438 ",1.34375,1.5249999999999999,1.5625,1.25,1.1000000000000001,1,1.34,"غير مرض"]
[9,"عضو هيئة تدريس رقم 3","ذكر ","أ. مساعد","لا يوجد","1437 - 1438 ",1,1.3,1.421875,1.75,1.1000000000000001,1,1.2457812500000003,"غير مرض"]
[10,"عضو هيئة تدريس رقم 4","أنثى","أ. مساعد","لا يوجد","1437 - 1438 ",1.46875,1.375,1.140625,1.5,1.5,1.1875,1.3804687499999999,"غير مرض"]
[11,"عضو هيئة تدريس رقم 5","أنثى","معيد","لا يوجد","1437 - 1438 ",1.609375,1.175,1.34375,1.5833333333333333,1.4,1.25,1.4218749999999998,"غير مرض"]
[12,"عضو هيئة تدريس رقم 6","ذكر ","أساذ","لا يوجد","1438 - 1439 ",2.625,2.2999999999999998,2.5,2.75,2.7,2,2.5050000000000003,"جيد"]
[13,"عضو هيئة تدريس رقم 7","ذكر ","أ. مساعد","لا يوجد","1438 - 1439 ",2,1.8,1.8125,1.875,2,1.5,1.8631250000000001,"ضعيف"]
[14,"عضو هيئة تدريس رقم 8","ذكر ","أ. مشارك","لا يوجد","1438 - 1439 ",2.5,2.4500000000000002,2.65625,2.75,2.6,2,2.5109374999999998,"جيد"]
[15,"عضو هيئة تدريس رقم 9","أنثى","أ. مشارك","لا يوجد","1438 - 1439 ",3,2.2749999999999999,2.75,2.875,2.6,1.25,2.5837500000000002,"جيد"]

{"sheet":"1438-1439","index":1,"n_rows":21,"n_cols":14,"rows_kept":21,"cut":false,"hidden":false,"merged":[[18,0,20,4],[4,0,5,8],[7,1,7,6],[7,8,7,13],[10,0,11,5],[10,6,10,11],[10,12,17,12],[10,13,17,13],[12,0,14,4],[15,0,17,4]]}
[]
[]
[]
[]
["رجاءاً أضغط هنا لتحليل النتائج للعام الجامعي 1438 - 1439 هـ"]
[]
[]
["الكلية:",{"$f":"'البيانات الاساسية'!B10","v":"كلية علوم الحاسب و تقنية المعلومات"},null,null,null,null,null,"البرنامج:",{"$f":"'البيانات الاساسية'!I10","v":"علوم الحاسب"}]
[]
[]
["تحليل النتائج",null,null,null,null,null,"اقسام التقييم",null,null,null,null,null,"النقاط المستحقة","المستوى العام"]
[null,null,null,null,null,null,"الأداء التدريسي وفاعليته","المشاركة في تطوير المقررات و البرنامج و تنفيذ نماذج الجودة","الصفات الشخصية و المهارات ","الأنشطة البحثية و التنمية المهنية","المشاركة في اللجان والأعمال الإدارية المختلفة","خدمة الجامعة والمجتمع"]
["أقل درجة تقييم:",null,null,null,null,"ذكر",2,1.8,1.8125,1.875,2,1.5]
[null,null,null,null,null,"أنثى",2.34375,2.0499999999999998,2.625,1.9166666666666667,1.6,1.25]
[null,null,null,null,null,"مجمع",{"$f":"MIN(G13,G14)","v":2},{"$f":"MIN(H13,H14)","v":1.8},1.8125,1.875,1.6,1.25]
["أعلى درجة تقييم:",null,null,null,null,"ذكر",2.625,2.4500000000000002,2.65625,2.75,2.7,2]
[null,null,null,null,null,"أنثى",3,2.2749999999999999,2.75,2.875,2.6,2.125]
[null,null,null,null,null,"مجمع",{"$f":"MAX(G16,G17)","v":3},{"$f":"MAX(H16,H17)","v":2.4500000000000002},2.75,2.875,2.7,2.125]
["متوسط الدرجات على مستوى البرنامج:",null,null,null,null,"ذكر",2.375,2.1833333333333331,2.3229166666666665,2.4583333333333335,2.4333333333333336,1.8333333333333333,{"$f":"IF(AND(G19=\"\", H19=\"\", I19=\"\", J19=\"\", K19=\"\", L19=\"\"),\"\",(G19*0.3 + H19*0.2 + I19*0.15 + J19*0.15 + K19*0.1 + L19*0.1))","v":2.2930208333333333},{"$f":"IF(M19=\"\",\"\",IF(M19>=4.5,\"ممتاز\",IF(M19>=3.5,\"جيد جداً\",IF(M19>=2.5,\"جيد\",IF(M19>=1.5,\"ضعيف\",\"غير مرض\")))))","v":"ضعيف"}]
[null,null,null,null,null,"أنثى",2.671875,2.1624999999999996,2.6875,2.3958333333333335,2.1,1.6875,{"$f":"IF(AND(G20=\"\", H20=\"\", I20=\"\", J20=\"\", K20=\"\", L20=\"\"),\"\",(G20*0.3 + H20*0.2 + I20*0.15 + J20*0.15 + K20*0.1 + L20*0.1))","v":2.3753125000000002},{"$f":"IF(M20=\"\",\"\",IF(M20>=4.5,\"ممتاز\",IF(M20>=3.5,\"جيد جداً\",IF(M20>=2.5,\"جيد\",IF(M20>=1.5,\"ضعيف\",\"غير مرض\")))))","v":"ضعيف"}]
[null,null,null,null,null,"مجمع",{"$f":"AVERAGE(G19,G20)","v":2.5234375},{"$f":"AVERAGE(H19,H20)","v":2.1729166666666666},2.505208333333333,2.4270833333333335,2.2666666666666666,1.7604166666666665,{"$f":"IF(AND(G21=\"\", H21=\"\", I21=\"\", J21=\"\", K21=\"\", L21=\"\"),\"\",(G21*0.3 + H21*0.2 + I21*0.15 + J21*0.15 + K21*0.1 + L21*0.1))","v":2.3341666666666665},"ضعيف"]

{"sheet":"1439-1440","index":2,"n_rows":21,"n_cols":14,"rows_kept":21,"cut":false,"hidden":false,"merged":[[18,0,20,4],[4,0,5,8],[7,1,7,6],[7,8,7,13],[10,0,11,5],[10,6,10,11],[10,12,17,12],[10,13,17,13],[12,0,14,4],[15,0,17,4]]}
[]
[]
[]
[]
["رجاءاً أضغط هنا لتحليل النتائج للعام الجامعي 1439 - 1440 هـ"]
[]
[]
["الكلية:",{"$f":"'البيانات الاساسية'!B10","v":"كلية علوم الحاسب و تقنية المعلومات"},null,null,null,null,null,"البرنامج:",{"$f":"'البيانات الاساسية'!I10","v":"علوم الحاسب"}]
[]
[]
["تحليل النتائج",null,null,null,null,null,"اقسام التقييم",null,null,null,null,null,"النقاط المستحقة","المستوى العام"]
[null,null,null,null,null,null,"الأداء التدريسي وفاعليته","المشاركة في تطوير المقررات و البرنامج و تنفيذ نماذج الجودة","الصفات الشخصية و المهارات ","الأنشطة البحثية و التنمية المهنية","المشاركة في اللجان والأعمال الإدارية المختلفة","خدمة الجامعة والمجتمع"]
["أقل درجة تقييم:",null,null,null,null,"ذكر",3.3125,3.15,3.375,2.125,3.45,3.6875]
[null,null,null,null,null,"أنثى",4.1875,3.55,4.03125,3,2.8,3.125]
[null,null,null,null,null,"مجمع",{"$f":"MIN(G13,G14)","v":3.3125},{"$f":"MIN(H13,H14)","v":3.15},3.375,2.125,2.8,3.125]
["أعلى درجة تقييم:",null,null,null,null,"ذكر",4.1875,4.5,4.625,4.125,4.2,4.625]
[null,null,null,null,null,"أنثى",4.375,4.9000000000000004,4.640625,4.541666666666667,4,4.375]
[null,null,null,null,null,"مجمع",{"$f":"MAX(G16,G17)","v":4.375},{"$f":"MAX(H16,H17)","v":4.9000000000000004},4.640625,4.541666666666667,4.2,4.625]
["متوسط الدرجات على مستوى البرنامج:",null,null,null,null,"ذكر",3.7708333333333335,4.05,4.088541666666667,3.2361111111111112,3.9166666666666665,4.083333333333333,{"$f":"IF(AND(G19=\"\", H19=\"\", I19=\"\", J19=\"\", K19=\"\", L19=\"\"),\"\",(G19*0.3 + H19*0.2 + I19*0.15 + J19*0.15 + K19*0.1 + L19*0.1))","v":3.8399479166666666},{"$f":"IF(M19=\"\",\"\",IF(M19>=4.5,\"ممتاز\",IF(M19>=3.5,\"جيد جداً\",IF(M19>=2.5,\"جيد\",IF(M19>=1.5,\"ضعيف\",\"غير مرض\")))))","v":"جيد جداً"}]
[null,null,null,null,null,"أنثى",4.28125,4.2249999999999996,4.3359375,3.7708333333333335,3.4,3.75,{"$f":"IF(AND(G20=\"\", H20=\"\", I20=\"\", J20=\"\", K20=\"\", L20=\"\"),\"\",(G20*0.3 + H20*0.2 + I20*0.15 + J20*0.15 + K20*0.1 + L20*0.1))","v":4.0603906250000001},{"$f":"IF(M20=\"\",\"\",IF(M20>=4.5,\"ممتاز\",IF(M20>=3.5,\"جيد جداً\",IF(M20>=2.5,\"جيد\",IF(M20>=1.5,\"ضعيف\",\"غير مرض\")))))","v":"جيد جداً"}]
[null,null,null,null,null,"مجمع",{"$f":"AVERAGE(G19,G20)","v":4.026041666666667},{"$f":"AVERAGE(H19,H20)","v":4.1374999999999993},4.2122395833333339,3.5034722222222223,3.6583333333333332,3.9166666666666665,3.9501692708333329,"جيد جداً"]

{"sheet":"1440-1441","index":3,"n_rows":21,"n_cols":14,"rows_kept":21,"cut":false,"hidden":false,"merged":[[18,0,20,4],[7,1,7,6],[7,8,7,13],[10,6,10,11],[10,0,11,5],[4,0,5,8],[12,0,14,4],[10,12,17,12],[10,13,17,13],[15,0,17,4]]}
[]
[]
[]
[]
["رجاءاً أضغط هنا لتحليل النتائج للعام الجامعي 1440 - 1441 هـ"]
[]
[]
["الكلية:",{"$f":"'البيانات الاساسية'!B10","v":"كلية علوم الحاسب و تقنية المعلومات"},null,null,null,null,null,"البرنامج:",{"$f":"'البيانات الاساسية'!I10","v":"علوم الحاسب"}]
[]
[]
["تحليل النتائج",null,null,null,null,null,"اقسام التقييم",null,null,null,null,null,"النقاط المستحقة","المستوى العام"]
[null,null,null,null,null,null,"الأداء التدريسي وفاعليته","المشاركة في تطوير المقررات و البرنامج و تنفيذ نماذج الجودة","الصفات الشخصية و المهارات ","الأنشطة البحثية و التنمية المهنية","المشاركة في اللجان والأعمال الإدارية المختلفة","خدمة الجامعة والمجتمع"]
["أقل درجة تقييم:",null,null,null,null,"ذكر",1,1.3,1.296875,1.25,1,1]
[null,null,null,null,null,"أنثى",1.46875,1.175,1.140625,1.5,1.4,1.1875]
[null,null,null,null,null,"مجمع",{"$f":"MIN(G13,G14)","v":1},{"$f":"MIN(H13,H14)","v":1.175},1.140625,1.25,1,1]
["أعلى درجة تقييم:",null,null,null,null,"ذكر",1.34375,1.75,1.5625,1.75,1.1000000000000001,1]
[null,null,null,null,null,"أنثى",1.609375,1.375,1.34375,1.5833333333333333,1.5,1.25]
[null,null,null,null,null,"مجمع",{"$f":"MAX(G16,G17)","v":1.609375},{"$f":"MAX(H16,H17)","v":1.75},1.5625,1.75,1.5,1.25]
["متوسط الدرجات على مستوى البرنامج:",null,null,null,null,"ذكر",1.1770833333333333,1.5250000000000001,1.4270833333333333,1.5833333333333333,1.0666666666666667,1,{"$f":"IF(AND(G19=\"\", H19=\"\", I19=\"\", J19=\"\", K19=\"\", L19=\"\"),\"\",(G19*0.3 + H19*0.2 + I19*0.15 + J19*0.15 + K19*0.1 + L19*0.1))","v":1.3163541666666669},{"$f":"IF(M19=\"\",\"\",IF(M19>=4.5,\"ممتاز\",IF(M19>=3.5,\"جيد جداً\",IF(M19>=2.5,\"جيد\",IF(M19>=1.5,\"ضعيف\",\"غير مرض\")))))","v":"غير مرض"}]
[null,null,null,null,null,"أنثى",1.5390625,1.2749999999999999,1.2421875,1.5416666666666665,1.45,1.21875,{"$f":"IF(AND(G20=\"\", H20=\"\", I20=\"\", J20=\"\", K20=\"\", L20=\"\"),\"\",(G20*0.3 + H20*0.2 + I20*0.15 + J20*0.15 + K20*0.1 + L20*0.1))","v":1.401171875},{"$f":"IF(M20=\"\",\"\",IF(M20>=4.5,\"ممتاز\",IF(M20>=3.5,\"جيد جداً\",IF(M20>=2.5,\"جيد\",IF(M20>=1.5,\"ضعيف\",\"غير مرض\")))))","v":"غير مرض"}]
[null,null,null,null,null,"مجمع",{"$f":"AVERAGE(G19,G20)","v":1.3580729166666665},{"$f":"AVERAGE(H19,H20)","v":1.4},1.3346354166666665,1.5625,1.2583333333333333,1.109375,1.358763020833333,"غير مرض"]

{"sheet":"كل الاعوام","index":4,"n_rows":9,"n_cols":13,"rows_kept":9,"cut":false,"hidden":false,"merged":[[5,4,5,6],[5,7,5,9],[5,10,5,12],[7,1,7,3],[8,1,8,3],[4,1,6,3],[4,4,4,12]]}
[]
[]
[]
[]
[null,"تحليل النتائج",null,null,"الاعوام الجامعية"]
[null,null,null,null,"1438 - 1439",null,null,"1439 - 1440",null,null,"1440 - 1441"]
[null,null,null,null,"ذكر","أنثى","مجمع","ذكر","أنثى","مجمع","ذكر","أنثى","مجمع"]
[null,"النقاط المستحقة",null,null,{"$f":"'1438-1439'!$M$19","v":2.2930208333333333},{"$f":"'1438-1439'!$M$20","v":2.3753125000000002},{"$f":"'1438-1439'!$M$21","v":2.3341666666666665},{"$f":"'1439-1440'!$M$19","v":3.8399479166666666},{"$f":"'1439-1440'!$M$20","v":4.0603906250000001},{"$f":"'1439-1440'!$M$21","v":3.9501692708333329},{"$f":"'1440-1441'!$M$19","v":1.3163541666666669},{"$f":"'1440-1441'!$M$20","v":1.401171875},{"$f":"'1440-1441'!$M$21","v":1.358763020833333}]
[null,"المستوى العام",null,null,{"$f":"'1438-1439'!$N$19","v":"ضعيف"},{"$f":"'1438-1439'!$N$20","v":"ضعيف"},{"$f":"'1438-1439'!$N$21","v":"ضعيف"},{"$f":"'1439-1440'!$N$19","v":"جيد جداً"},{"$f":"'1439-1440'!$N$20","v":"جيد جداً"},{"$f":"'1439-1440'!$N$21","v":"جيد جداً"},{"$f":"'1440-1441'!$N$19","v":"غير مرض"},{"$f":"'1440-1441'!$N$20","v":"غير مرض"},{"$f":"'1440-1441'!$N$21","v":"غير مرض"}]